BEGIN:VCALENDAR
VERSION:2.0
PRODID:-//Yasho Bhakti - ECPv6.10.1.1//NONSGML v1.0//EN
CALSCALE:GREGORIAN
METHOD:PUBLISH
X-ORIGINAL-URL:https://yashobhakti.guru
X-WR-CALDESC:Events for Yasho Bhakti
REFRESH-INTERVAL;VALUE=DURATION:PT1H
X-Robots-Tag:noindex
X-PUBLISHED-TTL:PT1H
BEGIN:VTIMEZONE
TZID:Asia/Kolkata
BEGIN:STANDARD
TZOFFSETFROM:+0530
TZOFFSETTO:+0530
TZNAME:IST
DTSTART:20260101T000000
END:STANDARD
END:VTIMEZONE
BEGIN:VEVENT
DTSTART;TZID=Asia/Kolkata:20260214T080000
DTEND;TZID=Asia/Kolkata:20260320T170000
DTSTAMP:20260420T214833
CREATED:20260223T103612Z
LAST-MODIFIED:20260225T100225Z
UID:10000082-1771056000-1774026000@yashobhakti.guru
SUMMARY:Kalapurnam Tirth Dham - Deolali
DESCRIPTION:સ્થિરતા :\n\n\nLocation: Kalapurnam Tirth Dham – Deolali\nhttps://maps.app.goo.gl/NPgf9KhczipPJGqE6?g_st=ac \n\n\n\nVisiting time Morning: 10:30 to 11:30\nAfternoon: 03:00 to 04:00\n\nContact: Yashobhakti 83478 96000\nOnly WhatsApp Messages
URL:https://yashobhakti.guru/yasho-path/kalapurnam-tirth-dham-deolali/
LOCATION:Kalapurnam Tirth Dham\, Balgruh Road off Lam Road Deolali\, Camp.\, Nashik\, Maharashtra\, 422401\, India
END:VEVENT
END:VCALENDAR