BEGIN:VCALENDAR
VERSION:2.0
PRODID:-//Yasho Bhakti - ECPv6.10.1.1//NONSGML v1.0//EN
CALSCALE:GREGORIAN
METHOD:PUBLISH
X-ORIGINAL-URL:https://yashobhakti.guru
X-WR-CALDESC:Events for Yasho Bhakti
REFRESH-INTERVAL;VALUE=DURATION:PT1H
X-Robots-Tag:noindex
X-PUBLISHED-TTL:PT1H
BEGIN:VTIMEZONE
TZID:Asia/Kolkata
BEGIN:STANDARD
TZOFFSETFROM:+0530
TZOFFSETTO:+0530
TZNAME:IST
DTSTART:20250101T000000
END:STANDARD
END:VTIMEZONE
BEGIN:VEVENT
DTSTART;VALUE=DATE:20250125
DTEND;VALUE=DATE:20250126
DTSTAMP:20260420T185902
CREATED:20250127T114902Z
LAST-MODIFIED:20250127T114902Z
UID:10000051-1737763200-1737849599@yashobhakti.guru
SUMMARY:Vidhyasala
DESCRIPTION:સ્થિરતા :\n\n\nLocation: Vidhyasala\nhttps://maps.app.goo.gl/kwKSscqgQiCuYhGi6\n\nVisiting time Morning: 10:30 to 11:30\nAfternoon: 03:00 to 04:00\n\nContact: Yashobhakti 83478 96000\nOnly WhatsApp Messages
URL:https://yashobhakti.guru/yasho-path/vidhyasala/
LOCATION:Mahima Prabhu Jain Derasar\, XF7W+9QX\, GJ SH 4\, Navi Fatehvadi Village\, Sarkhej\, Sarkhej-Okaf\,\, Ahmedabad\, Gujarat\, 382210\, India
END:VEVENT
BEGIN:VEVENT
DTSTART;VALUE=DATE:20250124
DTEND;VALUE=DATE:20250125
DTSTAMP:20260420T185902
CREATED:20250127T120742Z
LAST-MODIFIED:20250127T120742Z
UID:10000054-1737676800-1737763199@yashobhakti.guru
SUMMARY:Medical checkup
DESCRIPTION:સ્થિરતા :\n\n\nLocation: Vidhyasala \n\nContact: Yashobhakti 83478 96000\nOnly WhatsApp Messages
URL:https://yashobhakti.guru/yasho-path/medical-checkup/
LOCATION:Mahima Prabhu Jain Derasar\, XF7W+9QX\, GJ SH 4\, Navi Fatehvadi Village\, Sarkhej\, Sarkhej-Okaf\,\, Ahmedabad\, Gujarat\, 382210\, India
END:VEVENT
END:VCALENDAR